BEGIN:VCALENDAR
VERSION:2.0
PRODID:-//Carlisle Title - ECPv6.15.13.1//NONSGML v1.0//EN
CALSCALE:GREGORIAN
METHOD:PUBLISH
X-ORIGINAL-URL:https://www.carlisletitle.com
X-WR-CALDESC:Events for Carlisle Title
REFRESH-INTERVAL;VALUE=DURATION:PT1H
X-Robots-Tag:noindex
X-PUBLISHED-TTL:PT1H
BEGIN:VTIMEZONE
TZID:UTC
BEGIN:STANDARD
TZOFFSETFROM:+0000
TZOFFSETTO:+0000
TZNAME:UTC
DTSTART:20160101T000000
END:STANDARD
END:VTIMEZONE
BEGIN:VEVENT
DTSTART;TZID=UTC:20170502T100000
DTEND;TZID=UTC:20170502T140000
DTSTAMP:20260423T194226
CREATED:20170412T001219Z
LAST-MODIFIED:20170412T001406Z
UID:1944-1493719200-1493733600@www.carlisletitle.com
SUMMARY:Legal Update I
DESCRIPTION:Covers various changes in regulations\, real estate industry standards\, TREC statute and rule updates\, changes to promulgated contract and addenda forms\, etc. Lunch provided. \nCourse: Legal Update I | #29622 \nCE Credit: 4 hours \nProvider: Carlisle Title | #10049 \nREGISTER FOR EVENT
URL:https://www.carlisletitle.com/event/legal-update-i-2/
LOCATION:Maggiano’s Little Italy\, 205 N Park Center\, Dallas\, TX\, 75225\, United States
CATEGORIES:CE Courses
ATTACH;FMTTYPE=image/jpeg:https://www.carlisletitle.com/wp-content/uploads/2017/03/event_03.jpg
ORGANIZER;CN="Carlisle Title - Taylor Stewart":MAILTO:taylor.stewart@carlisletitle.com
END:VEVENT
BEGIN:VEVENT
DTSTART;TZID=UTC:20170426T090000
DTEND;TZID=UTC:20170426T130000
DTSTAMP:20260423T194226
CREATED:20170328T022545Z
LAST-MODIFIED:20170328T022921Z
UID:1807-1493197200-1493211600@www.carlisletitle.com
SUMMARY:Legal Update II
DESCRIPTION:Earn 4 hours of CE Credit for completing this course. Discusses ethics-related topics important to sales agents including fair housing and agency laws\, in addition to CFPB and tax laws. Breakfast will be provided. \n4 Hour CE Credit | 01-00-097-29623 \n  \nREGISTER FOR EVENT\n 
URL:https://www.carlisletitle.com/event/legal-update-ii-2/
LOCATION:SSBT Mortgage Group\, 2813 South Hulen Street\, Suite 275\, Fort Worth\, TX\, 76109
CATEGORIES:CE Courses
ATTACH;FMTTYPE=image/jpeg:https://www.carlisletitle.com/wp-content/uploads/2017/03/event_03.jpg
ORGANIZER;CN="Carlisle Title - Megan Pasteryk":MAILTO:megan.pasteryk@carlisletitle.com
END:VEVENT
BEGIN:VEVENT
DTSTART;TZID=UTC:20170425T093000
DTEND;TZID=UTC:20170425T133000
DTSTAMP:20260423T194226
CREATED:20170215T191210Z
LAST-MODIFIED:20170405T220359Z
UID:1040-1493112600-1493127000@www.carlisletitle.com
SUMMARY:Legal Update I
DESCRIPTION:Covers various changes in regulations\, real estate industry standards\, TREC statute and rule updates\, changes to promulgated contract and addenda forms\, etc. Lunch provided. \nCourse: Legal Update I \nCourse #: 01-00-097-29622 | 4 hour CE credit \nProvider: Carlisle Title | Provider #10049 \nREGISTER FOR EVENT
URL:https://www.carlisletitle.com/event/legal-update-i/
LOCATION:Keller Williams Dallas Preston Road\, 18383 Preston Road\, Suite 150\, Dallas\, TX\, 75252
CATEGORIES:CE Courses
ATTACH;FMTTYPE=image/jpeg:https://www.carlisletitle.com/wp-content/uploads/2017/02/event_01.jpg
ORGANIZER;CN="Carlisle Title - Megan Pasteryk":MAILTO:megan.pasteryk@carlisletitle.com
END:VEVENT
BEGIN:VEVENT
DTSTART;TZID=UTC:20170412T173000
DTEND;TZID=UTC:20170412T193000
DTSTAMP:20260423T194226
CREATED:20170314T033301Z
LAST-MODIFIED:20170314T034136Z
UID:1666-1492018200-1492025400@www.carlisletitle.com
SUMMARY:Celebrate Spring With Spirits
DESCRIPTION:You’re invited! Jump into the Spring market with sunny weather and refreshing cocktails on the Katy Trail Ice House patio. RSVP to Taylor Stewart at taylor.stewart@carlisletitle.com. \n \n  \nREGISTER FOR EVENT
URL:https://www.carlisletitle.com/event/celebrate-spring-with-spirits/
LOCATION:Katy Trail Ice House\, 3127 Routh Street\, Dallas\, TX\, 75201\, United States
ATTACH;FMTTYPE=image/jpeg:https://www.carlisletitle.com/wp-content/uploads/2017/03/img_4339.jpg
ORGANIZER;CN="Carlisle Title - Megan Pasteryk":MAILTO:megan.pasteryk@carlisletitle.com
END:VEVENT
BEGIN:VEVENT
DTSTART;TZID=UTC:20170412T130000
DTEND;TZID=UTC:20170412T140000
DTSTAMP:20260423T194226
CREATED:20170302T111011Z
LAST-MODIFIED:20170314T033616Z
UID:1550-1492002000-1492005600@www.carlisletitle.com
SUMMARY:Carlisle Closings 101 Workshop
DESCRIPTION:Explaining the closing process: what to expect after you bring the contract to the title company and what to expect at the closing table. RSVP to Sean Hannigan at sean.hannigan@carlisletitle.com. \n  \n  \nREGISTER FOR EVENT
URL:https://www.carlisletitle.com/event/carlisle-closings-101-workshop/
LOCATION:CT Plano Office\, 5801 Tennyson Parkway Ste. 150\, Plano\, Texas\, 75024
CATEGORIES:CE Courses
ATTACH;FMTTYPE=image/jpeg:https://www.carlisletitle.com/wp-content/uploads/2017/03/event_07.jpg
ORGANIZER;CN="Carlisle Title - Sean Hannigan":MAILTO:sean.hannigan@carlisletitle.com
END:VEVENT
BEGIN:VEVENT
DTSTART;TZID=UTC:20170412T110000
DTEND;TZID=UTC:20170412T120000
DTSTAMP:20260423T194226
CREATED:20170328T020946Z
LAST-MODIFIED:20170328T023630Z
UID:1803-1491994800-1491998400@www.carlisletitle.com
SUMMARY:Selling & Buying a Home - Bridging the Gap
DESCRIPTION:Join us for a Lunch & Learn\, brought to you by Carlisle Title and First Bank! \nFirst Bank offers convenient short-term financing\, called a bridge loan\, designed for clients who have a house to sell and\, at the same time\, want to buy a new home. \nProgram Benefits & Features: \n\nMay not require a down payment\nPayments on the Bridge Loan can be deferred (applied to principal)\nNo pre-payment penalties\nYou only have to move once\nYou won’t be feeling rushed to find your new dream home\nMore time and less stress for the selling of your current home\nYou only have to make payments on one home during the whole process\nStronger buying power due to the ability to write a non-contingent offer\n\n  \n  \nREGISTER FOR EVENT\n 
URL:https://www.carlisletitle.com/event/selling-buying-a-home-bridging-the-gap/
LOCATION:CT Plano Office\, 5801 Tennyson Parkway Ste. 150\, Plano\, Texas\, 75024
ATTACH;FMTTYPE=image/jpeg:https://www.carlisletitle.com/wp-content/uploads/2017/03/HOMEBUYER_section_FAMILY.jpg
ORGANIZER;CN="Carlisle Title - Megan Pasteryk":MAILTO:megan.pasteryk@carlisletitle.com
END:VEVENT
BEGIN:VEVENT
DTSTART;TZID=UTC:20170406T160000
DTEND;TZID=UTC:20170406T180000
DTSTAMP:20260423T194226
CREATED:20170321T210156Z
LAST-MODIFIED:20170322T001346Z
UID:1759-1491494400-1491501600@www.carlisletitle.com
SUMMARY:Fort Worth Office Grand Opening
DESCRIPTION:Join us to celebrate the opening of our new office in Fort Worth! Appetizers and beverages will be served. \nPlease RSVP by March 31\, 2017 to Sharon Fulgham\, Business Development & Attorney.
URL:https://www.carlisletitle.com/event/fort-worth-office-grand-opening/
LOCATION:CT Fort Worth Office\, 2800 South Hulen Street Suite 201\, Fort Worth\, TX\, 76109
ATTACH;FMTTYPE=image/jpeg:https://www.carlisletitle.com/wp-content/uploads/2017/03/FW-Grand-Opening-Event-01-5.jpg
ORGANIZER;CN="Carlisle Title - Megan Pasteryk":MAILTO:megan.pasteryk@carlisletitle.com
END:VEVENT
BEGIN:VEVENT
DTSTART;TZID=UTC:20170328T093000
DTEND;TZID=UTC:20170328T163000
DTSTAMP:20260423T194226
CREATED:20170303T195331Z
LAST-MODIFIED:20170306T211405Z
UID:1600-1490693400-1490718600@www.carlisletitle.com
SUMMARY:Certified Residential Listing Specialist Course
DESCRIPTION:Two power-packed days of training\, strategies and inspiration all focused on working with sellers. You’ll learn how to massively increase your listing conversion rate. Complete the course and earn your designation as a Certified Residential Listing Specialist. Course is $249. \n12 CE hours | Course #30681 | Download the CRLS Plano flier (PDF) \nREGISTER FOR EVENT
URL:https://www.carlisletitle.com/event/certified-residential-listing-specialist-course/
LOCATION:CT Plano Office\, 5801 Tennyson Parkway Ste. 150\, Plano\, Texas\, 75024
CATEGORIES:CE Courses
ATTACH;FMTTYPE=image/jpeg:https://www.carlisletitle.com/wp-content/uploads/2017/03/event_08.jpg
ORGANIZER;CN="Carlisle Title - Sean Hannigan":MAILTO:sean.hannigan@carlisletitle.com
END:VEVENT
BEGIN:VEVENT
DTSTART;TZID=UTC:20170308T090000
DTEND;TZID=UTC:20170308T110000
DTSTAMP:20260423T194226
CREATED:20170215T191737Z
LAST-MODIFIED:20170306T211159Z
UID:1047-1488963600-1488970800@www.carlisletitle.com
SUMMARY:“Be Shore About Sales” by Jeff Shore
DESCRIPTION:If you are in sales\, and you want to hear a dynamic speaker who can help you transform and accelerate your career\, you don’t want to miss Jeff Shore on March 8th! Please RSVP to events@carlisletitle.com as seating is limited. \n \nAbout Jeff Shore \nJeff Shore’s highly sought-after sales keynote speaker sessions inspire audiences across the globe to change their mindset and change their world. As an in-demand sales keynote speaker\, author and consultant for over three decades\, Jeff has a unique ability to connect with audiences on a personal level and transform the way they look at what they do\, inspiring meaningful and lasting change. His innovative\, research-driven and real-world approach to BOLDNESS is more than just another sales technique; it’s a fundamental shift in how to approach the sales process. \nLearn more about Jeff Shore here. \nREGISTER FOR EVENT
URL:https://www.carlisletitle.com/event/be-shore-about-sales-by-jeff-shore/
LOCATION:The Clubs of Prestonwood\, 15909 Preston Road\, Dallas\, TX\, 75248
ATTACH;FMTTYPE=image/jpeg:https://www.carlisletitle.com/wp-content/uploads/2017/02/event_06.jpg
ORGANIZER;CN="Carlisle Title Events":MAILTO:events@carlisletitle.com
END:VEVENT
END:VCALENDAR