BEGIN:VCALENDAR
VERSION:2.0
PRODID:-//Carlisle Title - ECPv6.15.13.1//NONSGML v1.0//EN
CALSCALE:GREGORIAN
METHOD:PUBLISH
X-WR-CALNAME:Carlisle Title
X-ORIGINAL-URL:https://www.carlisletitle.com
X-WR-CALDESC:Events for Carlisle Title
REFRESH-INTERVAL;VALUE=DURATION:PT1H
X-Robots-Tag:noindex
X-PUBLISHED-TTL:PT1H
BEGIN:VTIMEZONE
TZID:UTC
BEGIN:STANDARD
TZOFFSETFROM:+0000
TZOFFSETTO:+0000
TZNAME:UTC
DTSTART:20170101T000000
END:STANDARD
END:VTIMEZONE
BEGIN:VEVENT
DTSTART;TZID=UTC:20180726T110000
DTEND;TZID=UTC:20180726T120000
DTSTAMP:20260423T184505
CREATED:20180703T185404Z
LAST-MODIFIED:20180717T212314Z
UID:2941-1532602800-1532606400@www.carlisletitle.com
SUMMARY:Staging to Sell in the Heat of Summer!
DESCRIPTION:This workshop will help review the five things listing agents MUST DO to get the best exposure for their listings and how to generate buyers interest even if their listing has been on the market a few weeks. This class is taught by Gemma Hobbs; she has been staging homes since 2011. Owner of Modern Design Staging & Styling\, Gemma also serves as the President of the Real Estate Staging Association for DFW. She and her assistant Sara Balough stage both vacant and occupied homes that help owners sell 3-5 times faster than the average listing. Lunch provided. \nTo register for the class\, contact the organizer of the event or click the link below. \nNON-CE | Staging to Sell in the Heat of Summer! | Modern Design Staging & Styling | Gemma Hobbs \nREGISTER FOR EVENT
URL:https://www.carlisletitle.com/event/staging-to-sell-july26-2018/
LOCATION:First United Mortgage – Fort Worth\, 5600 Clearfork Main Street\, Suite 160\, Fort Worth\, TX\, 76107\, United States
CATEGORIES:Education,Non-CE Course
ATTACH;FMTTYPE=image/jpeg:https://www.carlisletitle.com/wp-content/uploads/2018/07/OE9S2B0-1.jpg
ORGANIZER;CN="Carlisle Title - Kristin Huppe":MAILTO:kristin.huppe@carlisletitle.com
END:VEVENT
BEGIN:VEVENT
DTSTART;TZID=UTC:20180503T140000
DTEND;TZID=UTC:20180503T150000
DTSTAMP:20260423T184505
CREATED:20180425T154956Z
LAST-MODIFIED:20180425T155039Z
UID:2800-1525356000-1525359600@www.carlisletitle.com
SUMMARY:Cookies & TREC Contract Changes
DESCRIPTION:Join Carlisle Title – Plano for a short class on the upcoming TREC contract changes that will become mandatory in May. This course\, presented by Carlisle Title In-House Counsel Catherine Fancher\, will outline key changes\, additions and everything in between.\n\nTo register for the class\, contact the organizer of the event or click the link below. \nREGISTER FOR EVENT
URL:https://www.carlisletitle.com/event/trec-contract-updates-april19-2018-2/
LOCATION:Carlisle Title – Plano\, 5801 Tennyson Parkway\, Suite 150\, Plano\, TX\, 75024\, United States
CATEGORIES:Education
ATTACH;FMTTYPE=image/jpeg:https://www.carlisletitle.com/wp-content/uploads/2018/04/coffee-3297996.jpg
ORGANIZER;CN="Carlisle Title - Teresa Lynch":MAILTO:teresa.lynch@carlisletitle.com
END:VEVENT
END:VCALENDAR