BEGIN:VCALENDAR
VERSION:2.0
PRODID:-//Carlisle Title - ECPv6.15.13.1//NONSGML v1.0//EN
CALSCALE:GREGORIAN
METHOD:PUBLISH
X-WR-CALNAME:Carlisle Title
X-ORIGINAL-URL:https://www.carlisletitle.com
X-WR-CALDESC:Events for Carlisle Title
REFRESH-INTERVAL;VALUE=DURATION:PT1H
X-Robots-Tag:noindex
X-PUBLISHED-TTL:PT1H
BEGIN:VTIMEZONE
TZID:UTC
BEGIN:STANDARD
TZOFFSETFROM:+0000
TZOFFSETTO:+0000
TZNAME:UTC
DTSTART:20170101T000000
END:STANDARD
END:VTIMEZONE
BEGIN:VEVENT
DTSTART;TZID=UTC:20181025T120000
DTEND;TZID=UTC:20181025T130000
DTSTAMP:20260423T170141
CREATED:20180712T174016Z
LAST-MODIFIED:20180919T173540Z
UID:2982-1540468800-1540472400@www.carlisletitle.com
SUMMARY:Successful Instagram Marketing Strategies
DESCRIPTION:With over 500 million active monthly users\, Instagram is the fastest growing social media platform in the world. \nDuring this 1-hour CE course\, we will teach you how use Instagram to connect with past\, current and potential clients by posting a variety of content and proper use of hashtags. Additionally\, we will talk about other features within the app such as Live and Stories\, and leave you with tips and tricks to help your real estate business stand out from the rest on Instagram. Lunch provided. \nClass will begin promptly at 12pm\, and you must be present at that time to receive credit. In addition\, per new TREC rules\, you must present a valid ID at time of check-in. \nTo register for the class\, contact the organizer of the event or click the link below. \n1 Hour CE Credit | Successful Instagram Marketing Strategies #35264 | National Investors #10066 | Melanie Opela #1617 \nREGISTER FOR EVENT
URL:https://www.carlisletitle.com/event/successful-instagram-marketing-strategies-oct25-2018/
LOCATION:Carlisle Title – Plano\, 5801 Tennyson Parkway\, Suite 150\, Plano\, TX\, 75024\, United States
CATEGORIES:CE Courses,Education
ATTACH;FMTTYPE=image/jpeg:https://www.carlisletitle.com/wp-content/uploads/2018/07/Instagram.jpg
ORGANIZER;CN="Carlisle Title - Terry Yates":MAILTO:terry.yates@carlisletitle.com
END:VEVENT
BEGIN:VEVENT
DTSTART;TZID=UTC:20181025T113000
DTEND;TZID=UTC:20181025T123000
DTSTAMP:20260423T170141
CREATED:20180928T214954Z
LAST-MODIFIED:20180928T214954Z
UID:3142-1540467000-1540470600@www.carlisletitle.com
SUMMARY:Marriage\, Same-Sex Marriage & Divorce Issues in Real Estate
DESCRIPTION:In this 1-hour CE course\, we will take a look at how marriage\, same-sex marriage and divorce affect the ways that real property is owned\, purchased and sold in Texas. Lunch provided. \nClass will begin promptly at 11:30am\, and you must be present at that time to receive credit. In addition\, per new TREC rules\, you must present a valid ID at time of check-in. \nTo register for the class\, contact the organizer of the event or click the link below. \n1 Hour CE Credit | Marriage\, Same-Sex Marriage & Divorce Issues in Real Estate #31526 | educateRE #0514 | Catherine Fancher #4752 \nREGISTER FOR EVENT
URL:https://www.carlisletitle.com/event/marriage-issues-oct25-2018/
LOCATION:First United Mortgage – Fort Worth\, 5600 Clearfork Main Street\, Suite 160\, Fort Worth\, TX\, 76107\, United States
CATEGORIES:CE Courses,Education
ATTACH;FMTTYPE=image/jpeg:https://www.carlisletitle.com/wp-content/uploads/2018/07/Marriage.jpg
ORGANIZER;CN="Carlisle Title - Jennifer Wright":MAILTO:jennifer.wright@carlisletitle.com
END:VEVENT
BEGIN:VEVENT
DTSTART;TZID=UTC:20181011T100000
DTEND;TZID=UTC:20181011T143000
DTSTAMP:20260423T170141
CREATED:20180712T163947Z
LAST-MODIFIED:20180928T214709Z
UID:2968-1539252000-1539268200@www.carlisletitle.com
SUMMARY:Legal Update II
DESCRIPTION:This non-elective Legal Update II CE course discusses ethics-related topics important to sales agents including fair housing and agency laws\, in addition to CFPB and tax laws. Lunch provided. \nClass will begin promptly at 10am\, and you must be present at that time to receive credit. In addition\, per new TREC rules\, you must present a valid ID at time of check-in. \nTo register for the class\, contact the organizer of the event or click the link below. \n4 Hour CE Credit | Legal Update II #33198 | Carlisle Title #10049 | Catherine Fancher #4752 \nREGISTER FOR EVENT
URL:https://www.carlisletitle.com/event/legal-update-ii-oct11-2018/
LOCATION:First United Mortgage – Fort Worth\, 5600 Clearfork Main Street\, Suite 160\, Fort Worth\, TX\, 76107\, United States
CATEGORIES:CE Courses,Education
ATTACH;FMTTYPE=image/jpeg:https://www.carlisletitle.com/wp-content/uploads/2017/02/event_01.jpg
ORGANIZER;CN="Carlisle Title - Jennifer Wright":MAILTO:jennifer.wright@carlisletitle.com
END:VEVENT
BEGIN:VEVENT
DTSTART;TZID=UTC:20180927T110000
DTEND;TZID=UTC:20180927T130000
DTSTAMP:20260423T170141
CREATED:20180712T163040Z
LAST-MODIFIED:20180919T172938Z
UID:2964-1538046000-1538053200@www.carlisletitle.com
SUMMARY:Oh What A Web!
DESCRIPTION:Clients tangled in a contract web they need to terminate? You can come to their rescue with these safe ways out! This 2-hour CE course covers the various opportunities the parties have to terminate under the 1-4 Family Residential Contract. Lunch provided. \nClass will begin promptly at 11am\, and you must be present at that time to receive credit. In addition\, per new TREC rules\, you must present a valid ID at time of check-in. \nTo register for the class\, contact the organizer of the event or click the link below. \n2 Hour CE Credit | Oh What A Web! #34860 | Carlisle Title #10049 | Catherine Fancher #4752 \nREGISTER FOR EVENT
URL:https://www.carlisletitle.com/event/oh-what-a-web-sept27-2018/
LOCATION:First United Mortgage – Fort Worth\, 5600 Clearfork Main Street\, Suite 160\, Fort Worth\, TX\, 76107\, United States
CATEGORIES:CE Courses,Education
ATTACH;FMTTYPE=image/jpeg:https://www.carlisletitle.com/wp-content/uploads/2018/07/OhWhatAWeb.jpg
ORGANIZER;CN="Carlisle Title - Jennifer Wright":MAILTO:jennifer.wright@carlisletitle.com
END:VEVENT
BEGIN:VEVENT
DTSTART;TZID=UTC:20180918T120000
DTEND;TZID=UTC:20180918T130000
DTSTAMP:20260423T170141
CREATED:20180712T173025Z
LAST-MODIFIED:20180919T173835Z
UID:2980-1537272000-1537275600@www.carlisletitle.com
SUMMARY:Real Estate Farming: Owning Your Community
DESCRIPTION:This CE course outlines how to grow your prospect market and reviews multiple farming options; It will also discuss how you can stand out as a real estate professional in today’s market\, and what are some resources available online that can help you navigate through branding your company/business. Finally\, it will review resources such as postcards\, mail outs\, Facebook lead generation\, marketing apps and MLS tools\, etc… to better increase the size of your business and connection to your community. Lunch provided. \nClass will begin promptly at 12pm\, and you must be present at that time to receive credit. In addition\, per new TREC rules\, you must present a valid ID at time of check-in. \nTo register for the class\, contact the organizer of the event or click the link below. \n1 Hour CE Credit | Real Estate Farming: Owning Your Community #33662 | Carlisle Title #10049 | Paige Fleenor #4493 \nREGISTER FOR EVENT
URL:https://www.carlisletitle.com/event/real-estate-farming-sept18-2018/
LOCATION:Carlisle Title – Plano\, 5801 Tennyson Parkway\, Suite 150\, Plano\, TX\, 75024\, United States
CATEGORIES:CE Courses,Education
ATTACH;FMTTYPE=image/jpeg:https://www.carlisletitle.com/wp-content/uploads/2017/12/suburbs-2211335_1920-e1520005942113.jpg
ORGANIZER;CN="Carlisle Title - Terry Yates":MAILTO:terry.yates@carlisletitle.com
END:VEVENT
BEGIN:VEVENT
DTSTART;TZID=UTC:20180913T100000
DTEND;TZID=UTC:20180913T143000
DTSTAMP:20260423T170141
CREATED:20180712T155728Z
LAST-MODIFIED:20180712T155728Z
UID:2958-1536832800-1536849000@www.carlisletitle.com
SUMMARY:Legal Update I
DESCRIPTION:This non-elective Legal I CE course covers various changes in regulations\, real estate industry standards\, TREC statute and rule updates\, changes to promulgated contract and addenda forms\, a review of existing laws and new case studies\, etc… Lunch provided. \nClass will begin promptly at 10am\, and you must be present at that time to receive credit. In addition\, per new TREC rules\, you must present a valid ID at time of check-in. \nTo register for the class\, contact the organizer of the event or click the link below. \n4 Hour CE Credit | Legal Update I #33197 | Carlisle Title #10049 | Catherine Fancher #4752 \nREGISTER FOR EVENT
URL:https://www.carlisletitle.com/event/legal-update-i-sept13-2018/
LOCATION:First United Mortgage – Fort Worth\, 5600 Clearfork Main Street\, Suite 160\, Fort Worth\, TX\, 76107\, United States
CATEGORIES:CE Courses,Education
ATTACH;FMTTYPE=image/jpeg:https://www.carlisletitle.com/wp-content/uploads/2017/02/event_03.jpg
ORGANIZER;CN="Carlisle Title - Jennifer Wright":MAILTO:jennifer.wright@carlisletitle.com
END:VEVENT
BEGIN:VEVENT
DTSTART;TZID=UTC:20180823T120000
DTEND;TZID=UTC:20180823T130000
DTSTAMP:20260423T170141
CREATED:20180712T175417Z
LAST-MODIFIED:20180919T173920Z
UID:2985-1535025600-1535029200@www.carlisletitle.com
SUMMARY:Marriage\, Same-Sex Marriage & Divorce Issues in Real Estate
DESCRIPTION:In this 1-hour CE course\, we will take a look at how marriage\, same-sex marriage and divorce affect the ways that real property is owned\, purchased and sold in Texas. Lunch provided. \nClass will begin promptly at 12pm\, and you must be present at that time to receive credit. In addition\, per new TREC rules\, you must present a valid ID at time of check-in. \nTo register for the class\, contact the organizer of the event or click the link below. \n1 Hour CE Credit | Marriage\, Same-Sex Marriage & Divorce Issues in Real Estate #31526 | educateRE #0514 | Catherine Fancher #4752 \nREGISTER FOR EVENT
URL:https://www.carlisletitle.com/event/marriage-issues-aug23-2018/
LOCATION:Carlisle Title – Plano\, 5801 Tennyson Parkway\, Suite 150\, Plano\, TX\, 75024\, United States
CATEGORIES:CE Courses,Education
ATTACH;FMTTYPE=image/jpeg:https://www.carlisletitle.com/wp-content/uploads/2018/07/Marriage.jpg
ORGANIZER;CN="Carlisle Title - Terry Yates":MAILTO:terry.yates@carlisletitle.com
END:VEVENT
BEGIN:VEVENT
DTSTART;TZID=UTC:20180823T113000
DTEND;TZID=UTC:20180823T123000
DTSTAMP:20260423T170141
CREATED:20180712T154941Z
LAST-MODIFIED:20180712T163548Z
UID:2952-1535023800-1535027400@www.carlisletitle.com
SUMMARY:Real Estate - Federal Reporting Issues - FIRPTA & More!
DESCRIPTION:This CE course is designed to inform real estate professionals of the regulations in dealing with FIRPTA and other Federal reporting issues such as 1099s and Form 8300. Lunch provided. \nClass will begin promptly at 11:30am\, and you must be present at that time to receive credit. In addition\, per new TREC rules\, you must present a valid ID at time of check-in. \nTo register for the class\, contact the organizer of the event or click the link below. \n1 Hour CE Credit | Real Estate – Federal Reporting Issues – FIRPTA & More #34152 | National Investors Title Insurance Company  #10066 | Teresa Frost #2328 \nREGISTER FOR EVENT
URL:https://www.carlisletitle.com/event/firpta-aug23-2018/
LOCATION:First United Mortgage – Fort Worth\, 5600 Clearfork Main Street\, Suite 160\, Fort Worth\, TX\, 76107\, United States
CATEGORIES:CE Courses,Education
ATTACH;FMTTYPE=image/jpeg:https://www.carlisletitle.com/wp-content/uploads/2018/07/55.jpg
ORGANIZER;CN="Carlisle Title - Jennifer Wright":MAILTO:jennifer.wright@carlisletitle.com
END:VEVENT
BEGIN:VEVENT
DTSTART;TZID=UTC:20180809T113000
DTEND;TZID=UTC:20180809T123000
DTSTAMP:20260423T170141
CREATED:20180703T190350Z
LAST-MODIFIED:20180712T163451Z
UID:2945-1533814200-1533817800@www.carlisletitle.com
SUMMARY:Basics of Mineral Rights Laws & Title Insurance
DESCRIPTION:The purpose of this 1-hour CE course will be to discuss the basic mineral rights laws and how title insurance is affected\, and the role of the title policy. Lunch provided. \nClass will begin promptly at 11:30am\, and you must be present at that time to receive credit. In addition\, per new TREC rules\, you must present a valid ID at time of check-in. \nTo register for the class\, contact the organizer of the event or click the link below. \n1 Hour CE Credit | Basics of Mineral Rights Laws & Title Insurance #34152 | National Investors #10066 | Bruce Liesman #2567 \nREGISTER FOR EVENT
URL:https://www.carlisletitle.com/event/mineral-rights-aug9-2018/
LOCATION:First United Mortgage – Fort Worth\, 5600 Clearfork Main Street\, Suite 160\, Fort Worth\, TX\, 76107\, United States
CATEGORIES:CE Courses,Education
ATTACH;FMTTYPE=image/jpeg:https://www.carlisletitle.com/wp-content/uploads/2018/07/OE9S2B0-copy.jpg
ORGANIZER;CN="Carlisle Title - Kristin Huppe":MAILTO:kristin.huppe@carlisletitle.com
END:VEVENT
BEGIN:VEVENT
DTSTART;TZID=UTC:20180726T110000
DTEND;TZID=UTC:20180726T130000
DTSTAMP:20260423T170141
CREATED:20180712T172132Z
LAST-MODIFIED:20180919T174040Z
UID:2976-1532602800-1532610000@www.carlisletitle.com
SUMMARY:Oh What A Web!
DESCRIPTION:Clients tangled in a contract web they need to terminate? You can come to their rescue with these safe ways out! This 2-hour CE course covers the various opportunities the parties have to terminate under the 1-4 Family Residential Contract. Lunch provided. \nClass will begin promptly at 11am\, and you must be present at that time to receive credit. In addition\, per new TREC rules\, you must present a valid ID at time of check-in. \nTo register for the class\, contact the organizer of the event or click the link below. \n2 Hour CE Credit | Oh What A Web! #34860 | Carlisle Title #10049 | Catherine Fancher #4752 \nREGISTER FOR EVENT
URL:https://www.carlisletitle.com/event/oh-what-a-web-july26-2018/
LOCATION:Carlisle Title – Plano\, 5801 Tennyson Parkway\, Suite 150\, Plano\, TX\, 75024\, United States
CATEGORIES:CE Courses,Education
ATTACH;FMTTYPE=image/jpeg:https://www.carlisletitle.com/wp-content/uploads/2018/07/OhWhatAWeb.jpg
ORGANIZER;CN="Carlisle Title - Terry Yates":MAILTO:terry.yates@carlisletitle.com
END:VEVENT
BEGIN:VEVENT
DTSTART;TZID=UTC:20180726T110000
DTEND;TZID=UTC:20180726T120000
DTSTAMP:20260423T170141
CREATED:20180703T185404Z
LAST-MODIFIED:20180717T212314Z
UID:2941-1532602800-1532606400@www.carlisletitle.com
SUMMARY:Staging to Sell in the Heat of Summer!
DESCRIPTION:This workshop will help review the five things listing agents MUST DO to get the best exposure for their listings and how to generate buyers interest even if their listing has been on the market a few weeks. This class is taught by Gemma Hobbs; she has been staging homes since 2011. Owner of Modern Design Staging & Styling\, Gemma also serves as the President of the Real Estate Staging Association for DFW. She and her assistant Sara Balough stage both vacant and occupied homes that help owners sell 3-5 times faster than the average listing. Lunch provided. \nTo register for the class\, contact the organizer of the event or click the link below. \nNON-CE | Staging to Sell in the Heat of Summer! | Modern Design Staging & Styling | Gemma Hobbs \nREGISTER FOR EVENT
URL:https://www.carlisletitle.com/event/staging-to-sell-july26-2018/
LOCATION:First United Mortgage – Fort Worth\, 5600 Clearfork Main Street\, Suite 160\, Fort Worth\, TX\, 76107\, United States
CATEGORIES:Education,Non-CE Course
ATTACH;FMTTYPE=image/jpeg:https://www.carlisletitle.com/wp-content/uploads/2018/07/OE9S2B0-1.jpg
ORGANIZER;CN="Carlisle Title - Kristin Huppe":MAILTO:kristin.huppe@carlisletitle.com
END:VEVENT
BEGIN:VEVENT
DTSTART;TZID=UTC:20180503T140000
DTEND;TZID=UTC:20180503T150000
DTSTAMP:20260423T170141
CREATED:20180425T154956Z
LAST-MODIFIED:20180425T155039Z
UID:2800-1525356000-1525359600@www.carlisletitle.com
SUMMARY:Cookies & TREC Contract Changes
DESCRIPTION:Join Carlisle Title – Plano for a short class on the upcoming TREC contract changes that will become mandatory in May. This course\, presented by Carlisle Title In-House Counsel Catherine Fancher\, will outline key changes\, additions and everything in between.\n\nTo register for the class\, contact the organizer of the event or click the link below. \nREGISTER FOR EVENT
URL:https://www.carlisletitle.com/event/trec-contract-updates-april19-2018-2/
LOCATION:Carlisle Title – Plano\, 5801 Tennyson Parkway\, Suite 150\, Plano\, TX\, 75024\, United States
CATEGORIES:Education
ATTACH;FMTTYPE=image/jpeg:https://www.carlisletitle.com/wp-content/uploads/2018/04/coffee-3297996.jpg
ORGANIZER;CN="Carlisle Title - Teresa Lynch":MAILTO:teresa.lynch@carlisletitle.com
END:VEVENT
END:VCALENDAR