BEGIN:VCALENDAR
VERSION:2.0
PRODID:-//Carlisle Title - ECPv6.15.13.1//NONSGML v1.0//EN
CALSCALE:GREGORIAN
METHOD:PUBLISH
X-WR-CALNAME:Carlisle Title
X-ORIGINAL-URL:https://www.carlisletitle.com
X-WR-CALDESC:Events for Carlisle Title
REFRESH-INTERVAL;VALUE=DURATION:PT1H
X-Robots-Tag:noindex
X-PUBLISHED-TTL:PT1H
BEGIN:VTIMEZONE
TZID:UTC
BEGIN:STANDARD
TZOFFSETFROM:+0000
TZOFFSETTO:+0000
TZNAME:UTC
DTSTART:20160101T000000
END:STANDARD
END:VTIMEZONE
BEGIN:VEVENT
DTSTART;TZID=UTC:20180619T113000
DTEND;TZID=UTC:20180619T123000
DTSTAMP:20260423T181702
CREATED:20171228T041149Z
LAST-MODIFIED:20180302T203151Z
UID:2410-1529407800-1529411400@www.carlisletitle.com
SUMMARY:Expanding Your Sphere Of Influence
DESCRIPTION:This workshop will help identify who falls into your sphere of influence (your database) and how to build mind-share with them. How to consistently follow a schedule and touch points for those in your sphere and how to build on that. Share the return on investment on working your sphere consistently and how important referrals are in the real estate business. Lunch provided. \nTo register for the class\, contact the organizer of the event or click the link below. \n1 Hour CE Credit | Provider #10049 | Course #33663 | Instructor #4493 \nREGISTER FOR EVENT
URL:https://www.carlisletitle.com/event/sphere-of-influence-june19-2018/
LOCATION:Carlisle Title – Plano\, 5801 Tennyson Parkway\, Suite 150\, Plano\, TX\, 75024\, United States
CATEGORIES:CE Courses
ATTACH;FMTTYPE=image/jpeg:https://www.carlisletitle.com/wp-content/uploads/2017/12/1783-copy.jpg
ORGANIZER;CN="Carlisle Title - Teresa Lynch":MAILTO:teresa.lynch@carlisletitle.com
END:VEVENT
BEGIN:VEVENT
DTSTART;TZID=UTC:20180607T113000
DTEND;TZID=UTC:20180607T123000
DTSTAMP:20260423T181702
CREATED:20171228T034559Z
LAST-MODIFIED:20180302T203248Z
UID:2403-1528371000-1528374600@www.carlisletitle.com
SUMMARY:Cyber Fraud: Don't Be A Victim
DESCRIPTION:The purpose of this Cyber Fraud CE course is to educate the real estate professional on the common fraud schemes that are a growing threat to the real estate community\, and to provide examples of different types of fraud\, how to detect a scheme\, and not become a victim. \nLunch provided. \nTo register for the class\, contact the organizer of the event or click the link below. \n1 Hour CE Credit | Provider #10066 | Course #32159 | Instructor #3629 \nREGISTER FOR EVENT
URL:https://www.carlisletitle.com/event/cyber-fraud-june7-2018/
LOCATION:First United Mortgage – Fort Worth\, 5600 Clearfork Main Street\, Suite 160\, Fort Worth\, TX\, 76107\, United States
CATEGORIES:CE Courses
ATTACH;FMTTYPE=image/jpeg:https://www.carlisletitle.com/wp-content/uploads/2017/12/OAYTIV0.jpg
ORGANIZER;CN="Carlisle Title - Jennifer Wright":MAILTO:jennifer.wright@carlisletitle.com
END:VEVENT
BEGIN:VEVENT
DTSTART;TZID=UTC:20180524T113000
DTEND;TZID=UTC:20180524T123000
DTSTAMP:20260423T181702
CREATED:20180104T004942Z
LAST-MODIFIED:20180302T203352Z
UID:2429-1527161400-1527165000@www.carlisletitle.com
SUMMARY:Let's Talk Taxes
DESCRIPTION:This course will review the basics of real property taxation in Texas and how taxes are dealt with in a title insurance transaction.  During the course\, we will discuss: \n\nHow real estate is taxed under Texas law;\nAvailable tax exemptions in Texas;\nHow Taxes are prorated between the buyer and the seller; and\nHow to deal with federal law (“FIRPTA”) when the seller in the transaction is a foreign seller.\n\nLunch provided. \nTo register for the class\, contact the organizer of the event or click the link below. \n1 Hour CE Credit | Provider #0514 | Course #33226 | Instructor #2059 \nREGISTER FOR EVENT
URL:https://www.carlisletitle.com/event/real-estate-taxes-may24-2018/
LOCATION:First United Mortgage – Fort Worth\, 5600 Clearfork Main Street\, Suite 160\, Fort Worth\, TX\, 76107\, United States
CATEGORIES:CE Courses
ATTACH;FMTTYPE=image/jpeg:https://www.carlisletitle.com/wp-content/uploads/2018/01/Taxes.jpg
ORGANIZER;CN="Carlisle Title - Jennifer Wright":MAILTO:jennifer.wright@carlisletitle.com
END:VEVENT
BEGIN:VEVENT
DTSTART;TZID=UTC:20180522T113000
DTEND;TZID=UTC:20180522T123000
DTSTAMP:20260423T181702
CREATED:20171228T035853Z
LAST-MODIFIED:20180302T203514Z
UID:2405-1526988600-1526992200@www.carlisletitle.com
SUMMARY:Real Estate Farming: Owning Your Community
DESCRIPTION:This CE course outlines how to grow your prospect market and reviews options and outlines for multiple farming options; It will also discuss how you can stand out as a real estate professional in today’s market\, and what are some resources available online that can help you navigate through branding your company/business. Finally\, it will review resources such as postcards\, mail outs\, Facebook lead generation\, marketing apps and MLS tools\, etc… to better increase the size of your business and connection to your community. Lunch provided. \nTo register for the class\, contact the organizer of the event or click the link below. \n1 Hour CE Credit | Provider #10049 | Course #33662 | Instructor #4493 & 4519 \nREGISTER FOR EVENT
URL:https://www.carlisletitle.com/event/real-estate-farming-may22-2018/
LOCATION:Carlisle Title – Plano\, 5801 Tennyson Parkway\, Suite 150\, Plano\, TX\, 75024\, United States
CATEGORIES:CE Courses
ATTACH;FMTTYPE=image/jpeg:https://www.carlisletitle.com/wp-content/uploads/2017/12/suburbs-2211335_1920-e1520005942113.jpg
ORGANIZER;CN="Carlisle Title - Teresa Lynch":MAILTO:teresa.lynch@carlisletitle.com
END:VEVENT
BEGIN:VEVENT
DTSTART;TZID=UTC:20180508T113000
DTEND;TZID=UTC:20180508T123000
DTSTAMP:20260423T181702
CREATED:20171228T034326Z
LAST-MODIFIED:20180302T203623Z
UID:2401-1525779000-1525782600@www.carlisletitle.com
SUMMARY:Cyber Fraud: Don't Be A Victim
DESCRIPTION:The purpose of this Cyber Fraud CE course is to educate the real estate professional on the common fraud schemes that are a growing threat to the real estate community\, and to provide examples of different types of fraud\, how to detect a scheme\, and not become a victim. \nLunch provided. \nTo register for the class\, contact the organizer of the event or click the link below. \n1 Hour CE Credit | Provider #10066 | Course #32159 | Instructor #3629 \nREGISTER FOR EVENT
URL:https://www.carlisletitle.com/event/cyber-fraud-may8-2018/
LOCATION:Carlisle Title – Plano\, 5801 Tennyson Parkway\, Suite 150\, Plano\, TX\, 75024\, United States
CATEGORIES:CE Courses
ATTACH;FMTTYPE=image/jpeg:https://www.carlisletitle.com/wp-content/uploads/2017/12/OAYTIV0.jpg
ORGANIZER;CN="Carlisle Title - Teresa Lynch":MAILTO:teresa.lynch@carlisletitle.com
END:VEVENT
BEGIN:VEVENT
DTSTART;TZID=UTC:20180424T113000
DTEND;TZID=UTC:20180424T123000
DTSTAMP:20260423T181702
CREATED:20171228T032457Z
LAST-MODIFIED:20180302T203849Z
UID:2398-1524569400-1524573000@www.carlisletitle.com
SUMMARY:Using Social Media For Real Estate
DESCRIPTION:This CE course outlines the multiple platforms available in the industry for social media\, includes the demographic\, types of accounts for each\, tips specific to each platform. Review the tools to utilize for content on social media\, setting goals and planning social media presence and analyzing the data to grow their real estate business through social media advertising. The three main platforms are focused on Facebook\, Instagram and Pinterest. Facebook business pages and advertisements will also be covered. Lunch provided. \nTo register for the class\, contact the organizer of the event or click the link below. \n1 Hour CE Credit | Provider #10049 | Course #33682 | Instructor #4493 \nREGISTER FOR EVENT
URL:https://www.carlisletitle.com/event/social-media-for-real-estate-april24-2018/
LOCATION:Carlisle Title – Plano\, 5801 Tennyson Parkway\, Suite 150\, Plano\, TX\, 75024\, United States
CATEGORIES:CE Courses
ATTACH;FMTTYPE=image/jpeg:https://www.carlisletitle.com/wp-content/uploads/2017/12/236.jpg
ORGANIZER;CN="Carlisle Title - Teresa Lynch":MAILTO:teresa.lynch@carlisletitle.com
END:VEVENT
BEGIN:VEVENT
DTSTART;TZID=UTC:20180419T100000
DTEND;TZID=UTC:20180419T110000
DTSTAMP:20260423T181702
CREATED:20180409T180722Z
LAST-MODIFIED:20180409T180722Z
UID:2757-1524132000-1524135600@www.carlisletitle.com
SUMMARY:2018 TREC Contract Updates in a Nutshell
DESCRIPTION:Join Carlisle Title – Fort Worth for a short class on the upcoming TREC contract changes that will become mandatory in May. This course\, presented by Carlisle Title In-House Counsel Catherine Fancher\, will outline key changes\, additions and everything in between.\n\nTo register for the class\, contact the organizer of the event or click the link below. \nREGISTER FOR EVENT
URL:https://www.carlisletitle.com/event/trec-contract-updates-april19-2018/
LOCATION:First United Mortgage – Fort Worth\, 5600 Clearfork Main Street\, Suite 160\, Fort Worth\, TX\, 76107\, United States
CATEGORIES:CE Courses
ATTACH;FMTTYPE=image/jpeg:https://www.carlisletitle.com/wp-content/uploads/2018/04/512edit.jpg
ORGANIZER;CN="Carlisle Title - Jennifer Wright":MAILTO:jennifer.wright@carlisletitle.com
END:VEVENT
BEGIN:VEVENT
DTSTART;TZID=UTC:20180405T100000
DTEND;TZID=UTC:20180405T140000
DTSTAMP:20260423T181702
CREATED:20171228T030539Z
LAST-MODIFIED:20180302T204129Z
UID:2391-1522922400-1522936800@www.carlisletitle.com
SUMMARY:Legal Update II
DESCRIPTION:This non-elective Legal Update II CE course discusses ethics-related topics important to sales agents including fair housing and agency laws\, in addition to CFPB and tax laws. Lunch provided. \nTo register for the class\, contact the organizer of the event or click the link below. \n4 Hour CE Credit | Provider #10094 | Course #33198 | Instructor #3324 \nREGISTER FOR EVENT
URL:https://www.carlisletitle.com/event/legal-update-ii-april5-2018/
LOCATION:First United Mortgage – Fort Worth\, 5600 Clearfork Main Street\, Suite 160\, Fort Worth\, TX\, 76107\, United States
CATEGORIES:CE Courses
ATTACH;FMTTYPE=image/jpeg:https://www.carlisletitle.com/wp-content/uploads/2017/02/event_01.jpg
ORGANIZER;CN="Carlisle Title - Jennifer Wright":MAILTO:jennifer.wright@carlisletitle.com
END:VEVENT
BEGIN:VEVENT
DTSTART;TZID=UTC:20180320T113000
DTEND;TZID=UTC:20180320T123000
DTSTAMP:20260423T181702
CREATED:20171228T013006Z
LAST-MODIFIED:20180302T204409Z
UID:2381-1521545400-1521549000@www.carlisletitle.com
SUMMARY:Commercial Contracts
DESCRIPTION:This course will include common provisions of commercial contracts\, pitfalls and ways to avoid them as well as assisting the real estate professional in understanding the interactions of the Contracting Parties\, Real Estate Agents and the Title Company. A better understanding of these concepts will help ensure all parties of the commercial contract a timely and smooth closing. Lunch provided. \nTo register for the class\, contact the organizer of the event or click the link below. \n1 Hour CE Credit | Provider #10066 | Course #30505 | Instructor #2328 \nREGISTER FOR EVENT
URL:https://www.carlisletitle.com/event/commercial-contracts-march20-2018/
LOCATION:Carlisle Title – Plano\, 5801 Tennyson Parkway\, Suite 150\, Plano\, TX\, 75024\, United States
CATEGORIES:CE Courses
ATTACH;FMTTYPE=image/jpeg:https://www.carlisletitle.com/wp-content/uploads/2017/12/1935-e1514395102810.jpg
ORGANIZER;CN="Carlisle Title - Teresa Lynch":MAILTO:teresa.lynch@carlisletitle.com
END:VEVENT
BEGIN:VEVENT
DTSTART;TZID=UTC:20180308T113000
DTEND;TZID=UTC:20180308T123000
DTSTAMP:20260423T181702
CREATED:20180104T010302Z
LAST-MODIFIED:20180302T204304Z
UID:2432-1520508600-1520512200@www.carlisletitle.com
SUMMARY:Texas Title Insurance Commitments
DESCRIPTION:This course will review the basics of Texas Title Insurance Commitments so Realtors will be able to help their clients read the Commitment and prepare for the closing at the title company.  This class will include a description of how the commitment is prepared\, and a review of the various schedules of the commitment.  After attending this course\, a Realtor will know (1) key elements of the commitment that need to be reviewed immediately upon receipt and (2) what the title company needs and expects from the Realtor and their client so that the closing will run smoothly. Lunch provided. \nTo register for the class\, contact the organizer of the event or click the link below. \n1 Hour CE Credit | Provider #0514 | Course #33556 | Instructor #2059 \nREGISTER FOR EVENT
URL:https://www.carlisletitle.com/event/title-insurance-commitments-march8-2018/
LOCATION:First United Mortgage – Fort Worth\, 5600 Clearfork Main Street\, Suite 160\, Fort Worth\, TX\, 76107\, United States
CATEGORIES:CE Courses
ATTACH;FMTTYPE=image/jpeg:https://www.carlisletitle.com/wp-content/uploads/2018/01/TitleCommitments.jpg
ORGANIZER;CN="Carlisle Title - Jennifer Wright":MAILTO:jennifer.wright@carlisletitle.com
END:VEVENT
BEGIN:VEVENT
DTSTART;TZID=UTC:20180228T110000
DTEND;TZID=UTC:20180228T120000
DTSTAMP:20260423T181702
CREATED:20180206T204535Z
LAST-MODIFIED:20180206T204535Z
UID:2626-1519815600-1519819200@www.carlisletitle.com
SUMMARY:Expert Video Presentations
DESCRIPTION:In the expert video presentations CE class\, we will go through the steps of creating professional looking videos for real estate agents to showcase themselves and their business and also discuss the process of using Facebook Live for video streaming. Lunch provided. \nTopics covered include:\n– How to get started\n– Top ten video ideas\n– Types of hardware needed\n– Types of video editing software needed\n– Items needed to create a video\n– Resources to buy equipment and services / video education \nTo register for the class\, contact the organizer of the event or click the link below. \n1 Hour CE Credit | Course #32952 | Provider #0001 | Instructor #3067 \nREGISTER FOR EVENT
URL:https://www.carlisletitle.com/event/expert-video-presentations-feb28-2018/
LOCATION:American National Bank & Trust – Fort Worth\, 1500 West 7th Street\, Fort Worth\, TX\, 76102\, United States
CATEGORIES:CE Courses
ATTACH;FMTTYPE=image/jpeg:https://www.carlisletitle.com/wp-content/uploads/2017/12/1475.jpg
ORGANIZER;CN="Carlisle Title - Jennifer Wright":MAILTO:jennifer.wright@carlisletitle.com
END:VEVENT
BEGIN:VEVENT
DTSTART;TZID=UTC:20180222T100000
DTEND;TZID=UTC:20180222T143000
DTSTAMP:20260423T181702
CREATED:20171228T024301Z
LAST-MODIFIED:20180131T193957Z
UID:2386-1519293600-1519309800@www.carlisletitle.com
SUMMARY:Legal Update I
DESCRIPTION:This non-elective Legal I CE course covers various changes in regulations\, real estate industry standards\, TREC statute and rule updates\, changes to promulgated contract and addenda forms\, a review of existing laws and new case studies\, etc… Lunch provided. \nClass will begin promptly at 10am\, and you must be present at that time to receive credit. In addition\, per new TREC rules\, you must present a valid ID at time of check-in. \nTo register for the class\, contact the organizer of the event or click the link below. \n4 Hour CE Credit | Legal Update I #33197 | educateRE #2059 \nREGISTER FOR EVENT
URL:https://www.carlisletitle.com/event/legal-update-i-feb22-2018/
LOCATION:First United Mortgage – Fort Worth\, 5600 Clearfork Main Street\, Suite 160\, Fort Worth\, TX\, 76107\, United States
CATEGORIES:CE Courses
ATTACH;FMTTYPE=image/jpeg:https://www.carlisletitle.com/wp-content/uploads/2017/02/event_03.jpg
ORGANIZER;CN="Carlisle Title - Jennifer Wright":MAILTO:jennifer.wright@carlisletitle.com
END:VEVENT
BEGIN:VEVENT
DTSTART;TZID=UTC:20180220T113000
DTEND;TZID=UTC:20180220T123000
DTSTAMP:20260423T181702
CREATED:20171228T012312Z
LAST-MODIFIED:20180130T032928Z
UID:2375-1519126200-1519129800@www.carlisletitle.com
SUMMARY:eSecurity: Protecting Non-Public Information
DESCRIPTION:The purpose of this eSecurity CE course is to educate the real estate professional on the definition on Non-Public Information (NPI)\, and to set forth guidelines for establishing internal and external policies and methods in which to deliver such information. Lunch provided. \nTo register for the class\, contact the organizer of the event or click the link below. \n1 Hour CE Credit | eSecurity: Protecting Non-Public Information #33741 | National Investors Title Insurance Company #10066 \nREGISTER FOR EVENT
URL:https://www.carlisletitle.com/event/esecurity-feb20-2018/
LOCATION:Carlisle Title – Plano\, 5801 Tennyson Parkway\, Suite 150\, Plano\, TX\, 75024\, United States
CATEGORIES:CE Courses
ATTACH;FMTTYPE=image/jpeg:https://www.carlisletitle.com/wp-content/uploads/2017/12/OAV9EW0.jpg
ORGANIZER;CN="Carlisle Title - Teresa Lynch":MAILTO:teresa.lynch@carlisletitle.com
END:VEVENT
BEGIN:VEVENT
DTSTART;TZID=UTC:20180208T113000
DTEND;TZID=UTC:20180208T123000
DTSTAMP:20260423T181702
CREATED:20171228T012559Z
LAST-MODIFIED:20180130T033017Z
UID:2379-1518089400-1518093000@www.carlisletitle.com
SUMMARY:eSecurity: Protecting Non-Public Information
DESCRIPTION:The purpose of this eSecurity CE course is to educate the real estate professional on the definition on Non-Public Information (NPI)\, and to set forth guidelines for establishing internal and external policies and methods in which to deliver such information. Lunch provided. \nTo register for the class\, contact the organizer of the event or click the link below. \n1 Hour CE Credit | eSecurity: Protecting Non-Public Information #33741 | National Investors Title Insurance Company #10066 \nREGISTER FOR EVENT
URL:https://www.carlisletitle.com/event/esecurity-feb8-2018/
LOCATION:First United Mortgage – Fort Worth\, 5600 Clearfork Main Street\, Suite 160\, Fort Worth\, TX\, 76107\, United States
CATEGORIES:CE Courses
ATTACH;FMTTYPE=image/jpeg:https://www.carlisletitle.com/wp-content/uploads/2017/12/OAV9EW0.jpg
ORGANIZER;CN="Carlisle Title - Jennifer Wright":MAILTO:jennifer.wright@carlisletitle.com
END:VEVENT
BEGIN:VEVENT
DTSTART;TZID=UTC:20180125T110000
DTEND;TZID=UTC:20180125T120000
DTSTAMP:20260423T181702
CREATED:20171227T233549Z
LAST-MODIFIED:20171230T043140Z
UID:2336-1516878000-1516881600@www.carlisletitle.com
SUMMARY:Expert Video Presentations
DESCRIPTION:In the expert video presentations CE class\, we will go through the steps of creating professional looking videos for real estate agents to showcase themselves and their business and also discuss the process of using Facebook Live for video streaming. Lunch provided. \nTopics covered include:\n– How to get started\n– Top ten video ideas\n– Types of hardware needed\n– Types of video editing software needed\n– Items needed to create a video\n– Resources to buy equipment and services / video education \nTo register for the class\, contact the organizer of the event or click the link below. \n1 Hour CE Credit | Course #32952 | Provider #0001 | Instructor #3067 \nREGISTER FOR EVENT
URL:https://www.carlisletitle.com/event/expert-video-presentations-jan25-2018/
LOCATION:Carlisle Title – Plano\, 5801 Tennyson Parkway\, Suite 150\, Plano\, TX\, 75024\, United States
CATEGORIES:CE Courses
ATTACH;FMTTYPE=image/jpeg:https://www.carlisletitle.com/wp-content/uploads/2017/12/1475.jpg
ORGANIZER;CN="Carlisle Title - Teresa Lynch":MAILTO:teresa.lynch@carlisletitle.com
END:VEVENT
BEGIN:VEVENT
DTSTART;TZID=UTC:20180118T113000
DTEND;TZID=UTC:20180118T123000
DTSTAMP:20260423T181702
CREATED:20171227T232229Z
LAST-MODIFIED:20171230T043028Z
UID:2342-1516275000-1516278600@www.carlisletitle.com
SUMMARY:Commercial Contracts
DESCRIPTION:This course will include common provisions of commercial contracts\, pitfalls and ways to avoid them as well as assisting the real estate professional in understanding the interactions of the Contracting Parties\, Real Estate Agents and the Title Company. A better understanding of these concepts will help ensure all parties of the commercial contract a timely and smooth closing. Lunch provided. \nTo register for the class\, contact the organizer of the event or click the link below. Please RSVP by January 9\, 2018. \n1 Hour CE Credit | Course #30505 | Provider #10066 | Instructor #2328 \nREGISTER FOR EVENT
URL:https://www.carlisletitle.com/event/commercial-contracts-jan18-2018/
LOCATION:First United Mortgage – Fort Worth\, 5600 Clearfork Main Street\, Suite 160\, Fort Worth\, TX\, 76107\, United States
CATEGORIES:CE Courses
ATTACH;FMTTYPE=image/jpeg:https://www.carlisletitle.com/wp-content/uploads/2017/12/1935-e1514395102810.jpg
ORGANIZER;CN="Carlisle Title - Jennifer Wright":MAILTO:jennifer.wright@carlisletitle.com
END:VEVENT
BEGIN:VEVENT
DTSTART;TZID=UTC:20170921T120000
DTEND;TZID=UTC:20170921T160000
DTSTAMP:20260423T181702
CREATED:20170919T230101Z
LAST-MODIFIED:20171228T010840Z
UID:2098-1505995200-1506009600@www.carlisletitle.com
SUMMARY:Legal Update II
DESCRIPTION:Discusses ethics-related topics important to sales agents including fair housing and agency laws\, in addition to CFPB and tax laws. Lunch provided. \nTo register for the class\, contact the organizer of the event or click the link below. \n4 Hour CE Credit | Course #29623 | Provider #10049 \nREGISTER FOR EVENT
URL:https://www.carlisletitle.com/event/legal-update-ii-4/
LOCATION:Keller Williams – Fort Worth\, 2813 S. Hulen Street\, Suite 150\, Fort Worth\, TX\, 76109\, United States
CATEGORIES:CE Courses
ATTACH;FMTTYPE=image/jpeg:https://www.carlisletitle.com/wp-content/uploads/2017/02/event_03.jpg
ORGANIZER;CN="Carlisle Title - Kristin Huppe":MAILTO:kristin.huppe@carlisletitle.com
END:VEVENT
BEGIN:VEVENT
DTSTART;TZID=UTC:20170912T120000
DTEND;TZID=UTC:20170912T160000
DTSTAMP:20260423T181702
CREATED:20170831T222340Z
LAST-MODIFIED:20171228T010823Z
UID:2057-1505217600-1505232000@www.carlisletitle.com
SUMMARY:Legal Update II
DESCRIPTION:Discusses ethics-related topics important to sales agents including fair housing and agency laws\, in addition to CFPB and tax laws. Lunch provided. \nTo register for the class\, contact the organizer of the event or click the link below. \n4 Hour CE Credit | Course #29623 | Provider #10049 \nREGISTER FOR EVENT
URL:https://www.carlisletitle.com/event/legal-update-ii-3/
LOCATION:Carlisle Title – Plano\, 5801 Tennyson Parkway\, Suite 150\, Plano\, TX\, 75024\, United States
CATEGORIES:CE Courses
ATTACH;FMTTYPE=image/jpeg:https://www.carlisletitle.com/wp-content/uploads/2017/02/event_03.jpg
ORGANIZER;CN="Carlisle Title - Teresa Lynch":MAILTO:teresa.lynch@carlisletitle.com
END:VEVENT
BEGIN:VEVENT
DTSTART;TZID=UTC:20170525T093000
DTEND;TZID=UTC:20170525T133000
DTSTAMP:20260423T181702
CREATED:20170224T040527Z
LAST-MODIFIED:20170405T220103Z
UID:1303-1495704600-1495719000@www.carlisletitle.com
SUMMARY:Legal Update II
DESCRIPTION:Discusses ethics-related topics important to sales agents including fair housing and agency laws\, in addition to CFPB and tax laws. Lunch provided. \n4 Hour CE Credit | 01-00-097-29623 \nREGISTER FOR EVENT
URL:https://www.carlisletitle.com/event/legal-update-ii/
LOCATION:Keller Williams Dallas Preston Road\, 18383 Preston Road\, Suite 150\, Dallas\, TX\, 75252
CATEGORIES:CE Courses
ATTACH;FMTTYPE=image/jpeg:https://www.carlisletitle.com/wp-content/uploads/2017/02/event_03.jpg
ORGANIZER;CN="Carlisle Title - Megan Pasteryk":MAILTO:megan.pasteryk@carlisletitle.com
END:VEVENT
BEGIN:VEVENT
DTSTART;TZID=UTC:20170504T110000
DTEND;TZID=UTC:20170504T130000
DTSTAMP:20260423T181702
CREATED:20170214T191506Z
LAST-MODIFIED:20170306T211540Z
UID:1043-1493895600-1493902800@www.carlisletitle.com
SUMMARY:Understand Builder Contracts and Addenda
DESCRIPTION:The class will help you understand how to write a builder contract and be better prepared for your home buyers who are taking the new construction route. \n2 Hour CE Credit | 01-00-097-31352 \nREGISTER FOR EVENT
URL:https://www.carlisletitle.com/event/understand-builder-contracts-and-addenda/
LOCATION:Legacy Center\, 5445 Legacy Drive\, Plano\, TX\, 75024
CATEGORIES:CE Courses
ATTACH;FMTTYPE=image/jpeg:https://www.carlisletitle.com/wp-content/uploads/2017/02/event_02.jpg
ORGANIZER;CN="Carlisle Title - Sean Hannigan":MAILTO:sean.hannigan@carlisletitle.com
END:VEVENT
BEGIN:VEVENT
DTSTART;TZID=UTC:20170502T100000
DTEND;TZID=UTC:20170502T140000
DTSTAMP:20260423T181702
CREATED:20170412T001219Z
LAST-MODIFIED:20170412T001406Z
UID:1944-1493719200-1493733600@www.carlisletitle.com
SUMMARY:Legal Update I
DESCRIPTION:Covers various changes in regulations\, real estate industry standards\, TREC statute and rule updates\, changes to promulgated contract and addenda forms\, etc. Lunch provided. \nCourse: Legal Update I | #29622 \nCE Credit: 4 hours \nProvider: Carlisle Title | #10049 \nREGISTER FOR EVENT
URL:https://www.carlisletitle.com/event/legal-update-i-2/
LOCATION:Maggiano’s Little Italy\, 205 N Park Center\, Dallas\, TX\, 75225\, United States
CATEGORIES:CE Courses
ATTACH;FMTTYPE=image/jpeg:https://www.carlisletitle.com/wp-content/uploads/2017/03/event_03.jpg
ORGANIZER;CN="Carlisle Title - Taylor Stewart":MAILTO:taylor.stewart@carlisletitle.com
END:VEVENT
BEGIN:VEVENT
DTSTART;TZID=UTC:20170426T090000
DTEND;TZID=UTC:20170426T130000
DTSTAMP:20260423T181702
CREATED:20170328T022545Z
LAST-MODIFIED:20170328T022921Z
UID:1807-1493197200-1493211600@www.carlisletitle.com
SUMMARY:Legal Update II
DESCRIPTION:Earn 4 hours of CE Credit for completing this course. Discusses ethics-related topics important to sales agents including fair housing and agency laws\, in addition to CFPB and tax laws. Breakfast will be provided. \n4 Hour CE Credit | 01-00-097-29623 \n  \nREGISTER FOR EVENT\n 
URL:https://www.carlisletitle.com/event/legal-update-ii-2/
LOCATION:SSBT Mortgage Group\, 2813 South Hulen Street\, Suite 275\, Fort Worth\, TX\, 76109
CATEGORIES:CE Courses
ATTACH;FMTTYPE=image/jpeg:https://www.carlisletitle.com/wp-content/uploads/2017/03/event_03.jpg
ORGANIZER;CN="Carlisle Title - Megan Pasteryk":MAILTO:megan.pasteryk@carlisletitle.com
END:VEVENT
BEGIN:VEVENT
DTSTART;TZID=UTC:20170425T093000
DTEND;TZID=UTC:20170425T133000
DTSTAMP:20260423T181702
CREATED:20170215T191210Z
LAST-MODIFIED:20170405T220359Z
UID:1040-1493112600-1493127000@www.carlisletitle.com
SUMMARY:Legal Update I
DESCRIPTION:Covers various changes in regulations\, real estate industry standards\, TREC statute and rule updates\, changes to promulgated contract and addenda forms\, etc. Lunch provided. \nCourse: Legal Update I \nCourse #: 01-00-097-29622 | 4 hour CE credit \nProvider: Carlisle Title | Provider #10049 \nREGISTER FOR EVENT
URL:https://www.carlisletitle.com/event/legal-update-i/
LOCATION:Keller Williams Dallas Preston Road\, 18383 Preston Road\, Suite 150\, Dallas\, TX\, 75252
CATEGORIES:CE Courses
ATTACH;FMTTYPE=image/jpeg:https://www.carlisletitle.com/wp-content/uploads/2017/02/event_01.jpg
ORGANIZER;CN="Carlisle Title - Megan Pasteryk":MAILTO:megan.pasteryk@carlisletitle.com
END:VEVENT
BEGIN:VEVENT
DTSTART;TZID=UTC:20170412T130000
DTEND;TZID=UTC:20170412T140000
DTSTAMP:20260423T181702
CREATED:20170302T111011Z
LAST-MODIFIED:20170314T033616Z
UID:1550-1492002000-1492005600@www.carlisletitle.com
SUMMARY:Carlisle Closings 101 Workshop
DESCRIPTION:Explaining the closing process: what to expect after you bring the contract to the title company and what to expect at the closing table. RSVP to Sean Hannigan at sean.hannigan@carlisletitle.com. \n  \n  \nREGISTER FOR EVENT
URL:https://www.carlisletitle.com/event/carlisle-closings-101-workshop/
LOCATION:CT Plano Office\, 5801 Tennyson Parkway Ste. 150\, Plano\, Texas\, 75024
CATEGORIES:CE Courses
ATTACH;FMTTYPE=image/jpeg:https://www.carlisletitle.com/wp-content/uploads/2017/03/event_07.jpg
ORGANIZER;CN="Carlisle Title - Sean Hannigan":MAILTO:sean.hannigan@carlisletitle.com
END:VEVENT
BEGIN:VEVENT
DTSTART;TZID=UTC:20170328T093000
DTEND;TZID=UTC:20170328T163000
DTSTAMP:20260423T181702
CREATED:20170303T195331Z
LAST-MODIFIED:20170306T211405Z
UID:1600-1490693400-1490718600@www.carlisletitle.com
SUMMARY:Certified Residential Listing Specialist Course
DESCRIPTION:Two power-packed days of training\, strategies and inspiration all focused on working with sellers. You’ll learn how to massively increase your listing conversion rate. Complete the course and earn your designation as a Certified Residential Listing Specialist. Course is $249. \n12 CE hours | Course #30681 | Download the CRLS Plano flier (PDF) \nREGISTER FOR EVENT
URL:https://www.carlisletitle.com/event/certified-residential-listing-specialist-course/
LOCATION:CT Plano Office\, 5801 Tennyson Parkway Ste. 150\, Plano\, Texas\, 75024
CATEGORIES:CE Courses
ATTACH;FMTTYPE=image/jpeg:https://www.carlisletitle.com/wp-content/uploads/2017/03/event_08.jpg
ORGANIZER;CN="Carlisle Title - Sean Hannigan":MAILTO:sean.hannigan@carlisletitle.com
END:VEVENT
END:VCALENDAR